BEGIN:VCALENDAR
VERSION:2.0
PRODID:-//Tukios.com/
BEGIN:VEVENT
UID:91c573f2-5e8a-486e-b749-14b8132c8676@www.toomeyobrien.com
DTSTAMP:20260421T100844Z
DTSTART:20260422T140000Z
DTEND:20260422T160000Z
SUMMARY:Visitation
DESCRIPTION:
URL:https://www.toomeyobrien.com/obituaries/alberic-brisson
LOCATION:Toomey-O'Brien Funeral Home 1043 Westfield Street  West 
	Springfield MA 01089
GEO:42.1047741;-72.6414255
END:VEVENT
END:VCALENDAR