BEGIN:VCALENDAR
VERSION:2.0
PRODID:-//Tukios.com/
BEGIN:VEVENT
UID:62dfed19-7ad1-4739-8b11-8df82335136f@www.toomeyobrien.com
DTSTAMP:20260421T101748Z
DTSTART:20260422T160000Z
DTEND:20260422T170000Z
SUMMARY:Funeral Service
DESCRIPTION:
URL:https://www.toomeyobrien.com/obituaries/alberic-brisson
LOCATION:Toomey-O'Brien Funeral Home 1043 Westfield Street  West 
	Springfield MA 01089
GEO:42.1047741;-72.6414255
END:VEVENT
END:VCALENDAR