BEGIN:VCALENDAR
VERSION:2.0
PRODID:-//Tukios.com/
BEGIN:VEVENT
UID:de77bac4-51f7-4fb1-8a6a-3024a4aed8bc@www.toomeyobrien.com
DTSTAMP:20260421T233839Z
DTSTART:20260427T140000Z
DTEND:20260427T160000Z
SUMMARY:Visitation
DESCRIPTION:
URL:https://www.toomeyobrien.com/obituaries/alson-canary-jr
LOCATION: 1043 Westfield Street  West Springfield MA 01089
GEO:42.1047741;-72.6414255
END:VEVENT
END:VCALENDAR