BEGIN:VCALENDAR
VERSION:2.0
PRODID:-//Tukios.com/
BEGIN:VEVENT
UID:9c1888bd-bd1a-4521-9643-d34777528b04@www.toomeyobrien.com
DTSTAMP:20260421T233507Z
DTSTART:20260427T160000Z
DTEND:20260427T170000Z
SUMMARY:Funeral Service
DESCRIPTION:
URL:https://www.toomeyobrien.com/obituaries/alson-canary-jr
LOCATION: 1043 Westfield Street  West Springfield MA 01089
GEO:42.1047741;-72.6414255
END:VEVENT
END:VCALENDAR