BEGIN:VCALENDAR
VERSION:2.0
PRODID:-//Tukios.com/
BEGIN:VEVENT
UID:9357dc89-7df2-49a0-a325-f3490c131790@www.toomeyobrien.com
DTSTAMP:20260421T233150Z
DTSTART:20260427T170000Z
DTEND:20260427T180000Z
SUMMARY:Burial
DESCRIPTION:
URL:https://www.toomeyobrien.com/obituaries/alson-canary-jr
LOCATION: 285 Sibley Avenue  West Springfield MA 01089
GEO:42.1104845;-72.6800808
END:VEVENT
END:VCALENDAR