BEGIN:VCALENDAR
VERSION:2.0
PRODID:-//Tukios.com/
BEGIN:VEVENT
UID:2d76f180-7887-46f6-ae63-b982b4f24f2a@www.toomeyobrien.com
DTSTAMP:20260423T181556Z
DTSTART:20260429T140000Z
DTEND:20260429T160000Z
SUMMARY:Visitation
DESCRIPTION:
URL:https://www.toomeyobrien.com/obituaries/todd-gardner
LOCATION:Toomey-O’Brien Funeral Home 1043 Westfield Street  West 
	Springfield MA 01089
GEO:42.1047741;-72.6414255
END:VEVENT
END:VCALENDAR