BEGIN:VCALENDAR
VERSION:2.0
PRODID:-//Tukios.com/
BEGIN:VEVENT
UID:a00a25fc-e4e1-465b-803c-74e988d1d524@www.toomeyobrien.com
DTSTAMP:20260423T182037Z
DTSTART:20260429T160000Z
DTEND:20260429T170000Z
SUMMARY:Memorial Service
DESCRIPTION:
URL:https://www.toomeyobrien.com/obituaries/todd-gardner
LOCATION:Toomey-O’Brien Funeral Home 1043 Westfield Street  West 
	Springfield MA 01089
GEO:42.1047741;-72.6414255
END:VEVENT
END:VCALENDAR